BEGIN:VCALENDAR
VERSION:2.0
PRODID:-//SV Energie Berlin e.V. - ECPv6.15.20//NONSGML v1.0//EN
CALSCALE:GREGORIAN
METHOD:PUBLISH
X-ORIGINAL-URL:https://staging-x.sv-energie-berlin.de
X-WR-CALDESC:Veranstaltungen für SV Energie Berlin e.V.
REFRESH-INTERVAL;VALUE=DURATION:PT1H
X-Robots-Tag:noindex
X-PUBLISHED-TTL:PT1H
BEGIN:VTIMEZONE
TZID:Europe/Berlin
BEGIN:DAYLIGHT
TZOFFSETFROM:+0100
TZOFFSETTO:+0200
TZNAME:CEST
DTSTART:20240331T010000
END:DAYLIGHT
BEGIN:STANDARD
TZOFFSETFROM:+0200
TZOFFSETTO:+0100
TZNAME:CET
DTSTART:20241027T010000
END:STANDARD
BEGIN:DAYLIGHT
TZOFFSETFROM:+0100
TZOFFSETTO:+0200
TZNAME:CEST
DTSTART:20250330T010000
END:DAYLIGHT
BEGIN:STANDARD
TZOFFSETFROM:+0200
TZOFFSETTO:+0100
TZNAME:CET
DTSTART:20251026T010000
END:STANDARD
BEGIN:DAYLIGHT
TZOFFSETFROM:+0100
TZOFFSETTO:+0200
TZNAME:CEST
DTSTART:20260329T010000
END:DAYLIGHT
BEGIN:STANDARD
TZOFFSETFROM:+0200
TZOFFSETTO:+0100
TZNAME:CET
DTSTART:20261025T010000
END:STANDARD
END:VTIMEZONE
BEGIN:VEVENT
DTSTART;TZID=Europe/Berlin:20250228T170000
DTEND;TZID=Europe/Berlin:20250228T210000
DTSTAMP:20260419T180635
CREATED:20250125T110616Z
LAST-MODIFIED:20250125T111106Z
UID:12657-1740762000-1740776400@staging-x.sv-energie-berlin.de
SUMMARY:Feuerzangenbowle
DESCRIPTION:Der Filmklassiker ab 18:00\, vorher Essen\, nachher das Heißgetränk und die ganze Zeit gute Laune und tolle Stimmung. \n\n\n\nOrt : Bootshaus SVEGutenbergstr. 4-512557 Berlin
URL:https://staging-x.sv-energie-berlin.de/event/feuerzangenbowle/
ATTACH;FMTTYPE=image/jpeg:https://staging-x.sv-energie-berlin.de/wp-content/uploads/2025/01/Die-Feuerzangenbowle-Plakat-scaled.jpg
END:VEVENT
END:VCALENDAR