BEGIN:VCALENDAR
VERSION:2.0
PRODID:-//SV Energie Berlin e.V. - ECPv6.15.20//NONSGML v1.0//EN
CALSCALE:GREGORIAN
METHOD:PUBLISH
X-WR-CALNAME:SV Energie Berlin e.V.
X-ORIGINAL-URL:https://staging-x.sv-energie-berlin.de
X-WR-CALDESC:Veranstaltungen für SV Energie Berlin e.V.
REFRESH-INTERVAL;VALUE=DURATION:PT1H
X-Robots-Tag:noindex
X-PUBLISHED-TTL:PT1H
BEGIN:VTIMEZONE
TZID:Europe/Berlin
BEGIN:DAYLIGHT
TZOFFSETFROM:+0100
TZOFFSETTO:+0200
TZNAME:CEST
DTSTART:20220327T010000
END:DAYLIGHT
BEGIN:STANDARD
TZOFFSETFROM:+0200
TZOFFSETTO:+0100
TZNAME:CET
DTSTART:20221030T010000
END:STANDARD
BEGIN:DAYLIGHT
TZOFFSETFROM:+0100
TZOFFSETTO:+0200
TZNAME:CEST
DTSTART:20230326T010000
END:DAYLIGHT
BEGIN:STANDARD
TZOFFSETFROM:+0200
TZOFFSETTO:+0100
TZNAME:CET
DTSTART:20231029T010000
END:STANDARD
BEGIN:DAYLIGHT
TZOFFSETFROM:+0100
TZOFFSETTO:+0200
TZNAME:CEST
DTSTART:20240331T010000
END:DAYLIGHT
BEGIN:STANDARD
TZOFFSETFROM:+0200
TZOFFSETTO:+0100
TZNAME:CET
DTSTART:20241027T010000
END:STANDARD
END:VTIMEZONE
BEGIN:VEVENT
DTSTART;TZID=Europe/Berlin:20230316T190000
DTEND;TZID=Europe/Berlin:20230316T220000
DTSTAMP:20260421T045945
CREATED:20230212T133916Z
LAST-MODIFIED:20230213T205741Z
UID:9632-1678993200-1679004000@staging-x.sv-energie-berlin.de
SUMMARY:JHV Hellas Titania
DESCRIPTION:Jahreshauptversammlung Hellas TitaniaScharfe Lanke 63 – 65 13595 Berlin
URL:https://staging-x.sv-energie-berlin.de/event/jhv-hellas-titania/
CATEGORIES:Allgemein,Jahreshaupt-Mitgliederversammlung,Versammlung
ATTACH;FMTTYPE=image/jpeg:https://staging-x.sv-energie-berlin.de/wp-content/uploads/2020/11/Berlin-Spindlersfeld_-_Dahmeufer.jpg
END:VEVENT
BEGIN:VEVENT
DTSTART;TZID=Europe/Berlin:20230318T100000
DTEND;TZID=Europe/Berlin:20230318T170000
DTSTAMP:20260421T045945
CREATED:20230213T211303Z
LAST-MODIFIED:20230213T212452Z
UID:9638-1679133600-1679158800@staging-x.sv-energie-berlin.de
SUMMARY:Frühjahrslangstrecke
DESCRIPTION:Frühjahrslangstrecke \n\n\n\nHohenzollernkanal\,Jungfernheideweg 80\, 13629 Berlin
URL:https://staging-x.sv-energie-berlin.de/event/fruehjahrslangstrecke/
CATEGORIES:Jugend und Masters,Regatta
ATTACH;FMTTYPE=image/jpeg:https://staging-x.sv-energie-berlin.de/wp-content/uploads/2023/02/Spree-Mitte.jpg
END:VEVENT
BEGIN:VEVENT
DTSTART;TZID=Europe/Berlin:20230325T080000
DTEND;TZID=Europe/Berlin:20230325T170000
DTSTAMP:20260421T045945
CREATED:20230213T212204Z
LAST-MODIFIED:20230213T212224Z
UID:9640-1679731200-1679763600@staging-x.sv-energie-berlin.de
SUMMARY:Waldlauf Rotation
DESCRIPTION:Waldlauf Rotation \n\n\n\nKarolinenhof\, Sportpromenade 23\,12527 Berlin
URL:https://staging-x.sv-energie-berlin.de/event/waldlauf-rotation/
CATEGORIES:EnergieJugend
END:VEVENT
END:VCALENDAR