BEGIN:VCALENDAR
VERSION:2.0
PRODID:-//SV Energie Berlin e.V. - ECPv6.15.20//NONSGML v1.0//EN
CALSCALE:GREGORIAN
METHOD:PUBLISH
X-ORIGINAL-URL:https://staging-x.sv-energie-berlin.de
X-WR-CALDESC:Veranstaltungen für SV Energie Berlin e.V.
REFRESH-INTERVAL;VALUE=DURATION:PT1H
X-Robots-Tag:noindex
X-PUBLISHED-TTL:PT1H
BEGIN:VTIMEZONE
TZID:Europe/Berlin
BEGIN:DAYLIGHT
TZOFFSETFROM:+0100
TZOFFSETTO:+0200
TZNAME:CEST
DTSTART:20240331T010000
END:DAYLIGHT
BEGIN:STANDARD
TZOFFSETFROM:+0200
TZOFFSETTO:+0100
TZNAME:CET
DTSTART:20241027T010000
END:STANDARD
BEGIN:DAYLIGHT
TZOFFSETFROM:+0100
TZOFFSETTO:+0200
TZNAME:CEST
DTSTART:20250330T010000
END:DAYLIGHT
BEGIN:STANDARD
TZOFFSETFROM:+0200
TZOFFSETTO:+0100
TZNAME:CET
DTSTART:20251026T010000
END:STANDARD
BEGIN:DAYLIGHT
TZOFFSETFROM:+0100
TZOFFSETTO:+0200
TZNAME:CEST
DTSTART:20260329T010000
END:DAYLIGHT
BEGIN:STANDARD
TZOFFSETFROM:+0200
TZOFFSETTO:+0100
TZNAME:CET
DTSTART:20261025T010000
END:STANDARD
END:VTIMEZONE
BEGIN:VEVENT
DTSTART;TZID=Europe/Berlin:20250404T080000
DTEND;TZID=Europe/Berlin:20250406T170000
DTSTAMP:20260419T152008
CREATED:20250127T151310Z
LAST-MODIFIED:20250127T151411Z
UID:12744-1743753600-1743958800@staging-x.sv-energie-berlin.de
SUMMARY:Junior B-Test
DESCRIPTION:Brandenburg
URL:https://staging-x.sv-energie-berlin.de/event/junior-b-test/
ATTACH;FMTTYPE=image/jpeg:https://staging-x.sv-energie-berlin.de/wp-content/uploads/2022/02/DSC02575-scaled.jpg
END:VEVENT
BEGIN:VEVENT
DTSTART;TZID=Europe/Berlin:20250405T100000
DTEND;TZID=Europe/Berlin:20250405T170000
DTSTAMP:20260419T152008
CREATED:20240321T222146Z
LAST-MODIFIED:20250131T175503Z
UID:9542-1743847200-1743872400@staging-x.sv-energie-berlin.de
SUMMARY:Gesamtberliner Anrudern
DESCRIPTION:Bootshaus Friedrichshagener Ruderverein\n\n\n\nHahns Mühle 1212587 Berlin \n\n\n\n\nWebseite FRV
URL:https://staging-x.sv-energie-berlin.de/event/gesamtberliner-anrudern/
CATEGORIES:Allgemein
ATTACH;FMTTYPE=image/jpeg:https://staging-x.sv-energie-berlin.de/wp-content/uploads/2024/04/06-04-2024-Juniorinnen-D4-Steg-FRV-1.jpg
END:VEVENT
BEGIN:VEVENT
DTSTART;TZID=Europe/Berlin:20250412T080000
DTEND;TZID=Europe/Berlin:20250412T170000
DTSTAMP:20260419T152008
CREATED:20230315T180013Z
LAST-MODIFIED:20250127T120953Z
UID:9714-1744444800-1744477200@staging-x.sv-energie-berlin.de
SUMMARY:Fürstenwalder Langstreckenregatta
DESCRIPTION:Der Ruderclub Fürstenwalde 1893 e.V. veranstaltet in jedem Frühjahr eine DRV- Langstreckenregatta. \n\n\n\n\n\n\n\n\n\n\nZur Veranstalterseite
URL:https://staging-x.sv-energie-berlin.de/event/fuerstenwalder-langstreckenregatta/
CATEGORIES:Masters,Regatta
END:VEVENT
BEGIN:VEVENT
DTSTART;TZID=Europe/Berlin:20250412T090000
DTEND;TZID=Europe/Berlin:20250412T160000
DTSTAMP:20260419T152008
CREATED:20241102T222037Z
LAST-MODIFIED:20250127T112725Z
UID:11120-1744448400-1744473600@staging-x.sv-energie-berlin.de
SUMMARY:2. Arbeitseinsatz
DESCRIPTION:2. ArbeitseinsatzBootshaus Gutenbergstr. 4-512557 Berlin \n\n\n\n\n\n\n\n\n\n\nBootshaus SVE
URL:https://staging-x.sv-energie-berlin.de/event/2-arbeitseinsatz-2/
CATEGORIES:Arbeitseinsatz
ATTACH;FMTTYPE=image/jpeg:https://staging-x.sv-energie-berlin.de/wp-content/uploads/2020/12/IMG_8579.jpg
END:VEVENT
BEGIN:VEVENT
DTSTART;TZID=Europe/Berlin:20250426T080000
DTEND;TZID=Europe/Berlin:20250427T170000
DTSTAMP:20260419T152009
CREATED:20240321T222519Z
LAST-MODIFIED:20250127T115906Z
UID:9696-1745654400-1745773200@staging-x.sv-energie-berlin.de
SUMMARY:Berliner Frühregatta
DESCRIPTION:Berliner FrühregattaRegattastrecke Berlin GrünauRegattastr. 191 · 12527 Berlin Telefon: +49 30 6744 002Mail: mail@regattastrecke-gruenau.de \n\n\n\n \n\n\n\n\n\n\n\n\n\n\n\n\nRegattastrecke Berlin Grünau
URL:https://staging-x.sv-energie-berlin.de/event/berliner-fruehregatta/
CATEGORIES:Jugend und Masters,Regatta
ATTACH;FMTTYPE=image/jpeg:https://staging-x.sv-energie-berlin.de/wp-content/uploads/2022/04/solo-2016-50.jpg
END:VEVENT
END:VCALENDAR